BEGIN:VCALENDAR
VERSION:2.0
PRODID:-//Plone.org//NONSGML plone.app.event//EN
X-WR-TIMEZONE:Brazil/East
BEGIN:VEVENT
SUMMARY:20ª Extraordinária da 3ª Sessão Legislativa da 18ª Legislatur
 a
DTSTART;TZID=Brazil/East;VALUE=DATE-TIME:20230122T100000
DTSTAMP;VALUE=DATE-TIME:20260420T112302Z
UID:253ccb45bc2f46f1a0cc3b0a9495b975@www.planalto.sp.leg.br
CONTACT:DIRETORIA ADMINISTRATIVA\, +55 18 3695-1217\, CAMARA@PLANALTO.SP.L
 EG.BR\, https://fb.watch/idmbduYtQW/
CREATED;VALUE=DATE-TIME:20230122T204636Z
LAST-MODIFIED;VALUE=DATE-TIME:20230122T204640Z
LOCATION:CÂMARA MUNICIPAL DE PLANALTO
URL:https://www.planalto.sp.leg.br/institucional/eventos/20a-extraordinari
 a-da-3a-sessao-legislativa-da-18a-legislatura
END:VEVENT
BEGIN:VTIMEZONE
TZID:Brazil/East
X-LIC-LOCATION:Brazil/East
BEGIN:DAYLIGHT
DTSTART;VALUE=DATE-TIME:20221016T010000
TZNAME:BRST
TZOFFSETFROM:-0300
TZOFFSETTO:-0200
END:DAYLIGHT
END:VTIMEZONE
END:VCALENDAR
