BEGIN:VCALENDAR
VERSION:2.0
PRODID:-//Plone.org//NONSGML plone.app.event//EN
X-WR-TIMEZONE:Brazil/East
BEGIN:VEVENT
SUMMARY:52ª SESSÃO ORDINÁRIA EM 22/02/2023
DTSTART;TZID=Brazil/East;VALUE=DATE-TIME:20230222T200000
DTEND;TZID=Brazil/East;VALUE=DATE-TIME:20230222T210000
DTSTAMP;VALUE=DATE-TIME:20260421T025331Z
UID:c8e6876eb25b4f3e87eac2ba0aa8c9f8@www.planalto.sp.leg.br
CREATED;VALUE=DATE-TIME:20230222T215622Z
DESCRIPTION:Consta da pauta da matéria da 51ª SESSÃO ORDINÁRIA\, da 18
 ª Legislatura da Câmara Municipal de Planalto\, a ser realizada no dia 2
 2 de fevereiro de 2023\, às 20h00\, nas dependências do Edifício da Câ
 mara Municipal de Planalto.
LAST-MODIFIED;VALUE=DATE-TIME:20230222T215625Z
LOCATION:CÂMARA MUNICIPAL DE PLANALTO
URL:https://www.planalto.sp.leg.br/institucional/eventos/52a-sessao-ordina
 ria-em-22-02-2023
END:VEVENT
BEGIN:VTIMEZONE
TZID:Brazil/East
X-LIC-LOCATION:Brazil/East
BEGIN:DAYLIGHT
DTSTART;VALUE=DATE-TIME:20221016T010000
TZNAME:BRST
TZOFFSETFROM:-0300
TZOFFSETTO:-0200
END:DAYLIGHT
END:VTIMEZONE
END:VCALENDAR
